BEGIN:VCALENDAR
VERSION:2.0
PRODID:-//wp-events-plugin.com//7.2.3.1//EN
TZID:Europe/Berlin
X-WR-TIMEZONE:Europe/Berlin
BEGIN:VEVENT
UID:8@heinersolarberatung.de
DTSTART;TZID=Europe/Berlin:20231114T190000
DTEND;TZID=Europe/Berlin:20231114T203000
DTSTAMP:20231116T122901Z
URL:https://www.heinersolarberatung.de/events/solarstrom-selbst-erzeugen-u
 nd-nutzen-das-eigene-dach-als-solarkraftwerk-3/
SUMMARY:Solarstrom selbst erzeugen und nutzen – Das eigene Dach als Solar
 kraftwerk
DESCRIPTION:Informiert wird über den Stellenwert regenerativer Energien f
 ür den Klimaschutz\, über Förderprogramme\, Kosten und Technik von Phot
 ovoltaikanlagen. Außerdem berichten Aktive der Bürgersolarberatung über
  ihre ehrenamtliche Arbeit und darüber\, wie sie Menschen auf dem Weg zur
  eigenen PV-Anlage begleiten.\n\nIn Zusammenarbeit von BUND\, Volkshochsch
 ule Darmstadt und Amt für Klimaschutz und Klimaanpassung der Wissenschaft
 sstadt Darmstadt\, heiner*energie und Wattbewerb\n\nReferent: Niko Martin\
 , BUND Darmstadt und Aktive aus der heiner*solarberatung\n\nDie Teilnahme 
 ist direkt ohne Anmeldung möglich: www.bund-darmstadt.de/webkonferenz 
ATTACH;FMTTYPE=image/jpeg:https://www.heinersolarberatung.de/wp-content/up
 loads/2022/12/Auf-Dach-Solaranlage-PHotovoltaik-PV-Anlage.png
CATEGORIES:Informationsveranstaltung
LOCATION:http://www.bund-darmstadt.de/webkonferenz
END:VEVENT
BEGIN:VTIMEZONE
TZID:Europe/Berlin
X-LIC-LOCATION:Europe/Berlin
BEGIN:STANDARD
DTSTART:20231029T020000
TZOFFSETFROM:+0200
TZOFFSETTO:+0100
TZNAME:CET
END:STANDARD
END:VTIMEZONE
END:VCALENDAR